BEGIN:VCALENDAR
VERSION:2.0
PRODID:-//Ohio, Illinois Public Library - ECPv6.15.20//NONSGML v1.0//EN
CALSCALE:GREGORIAN
METHOD:PUBLISH
X-ORIGINAL-URL:https://ohiolibrarybc.com
X-WR-CALDESC:Events for Ohio, Illinois Public Library
REFRESH-INTERVAL;VALUE=DURATION:PT1H
X-Robots-Tag:noindex
X-PUBLISHED-TTL:PT1H
BEGIN:VTIMEZONE
TZID:UTC
BEGIN:STANDARD
TZOFFSETFROM:+0000
TZOFFSETTO:+0000
TZNAME:UTC
DTSTART:20220101T000000
END:STANDARD
END:VTIMEZONE
BEGIN:VEVENT
DTSTART;TZID=UTC:20250412T100000
DTEND;TZID=UTC:20250412T100000
DTSTAMP:20260420T054804
CREATED:20250325T113914Z
LAST-MODIFIED:20250325T113914Z
UID:82737-1744452000-1744452000@ohiolibrarybc.com
SUMMARY:Easter Egg Hunt
DESCRIPTION:For Ages Pre-School to 12.
URL:https://ohiolibrarybc.com/event/easter-egg-hunt-2025/
LOCATION:Ohio Park\, Ohio\, IL\, United States
CATEGORIES:Special Event
END:VEVENT
BEGIN:VEVENT
DTSTART;TZID=UTC:20241214T100000
DTEND;TZID=UTC:20241214T100000
DTSTAMP:20260420T054804
CREATED:20240917T135641Z
LAST-MODIFIED:20240917T135641Z
UID:82678-1734170400-1734170400@ohiolibrarybc.com
SUMMARY:Christmas Party
DESCRIPTION:Join us for our annual Christmas party where we’ll be making some winter and Christmas themed crafts.
URL:https://ohiolibrarybc.com/event/christmas-party-2/
LOCATION:Ohio Public Library\, 112 North Main Street\, Ohio\, Illinois\, 61349\, United States
CATEGORIES:Special Event
END:VEVENT
BEGIN:VEVENT
DTSTART;TZID=UTC:20241123T100000
DTEND;TZID=UTC:20241123T100000
DTSTAMP:20260420T054804
CREATED:20240917T134021Z
LAST-MODIFIED:20240917T134021Z
UID:82676-1732356000-1732356000@ohiolibrarybc.com
SUMMARY:Fall Themed Craft
DESCRIPTION:Join us for our fall/Thanksgiving themed craft project.
URL:https://ohiolibrarybc.com/event/fall-themed-craft/
LOCATION:Ohio Public Library\, 112 North Main Street\, Ohio\, Illinois\, 61349\, United States
CATEGORIES:Special Event
END:VEVENT
BEGIN:VEVENT
DTSTART;TZID=UTC:20241113T173000
DTEND;TZID=UTC:20241113T173000
DTSTAMP:20260420T054804
CREATED:20240917T133913Z
LAST-MODIFIED:20240917T133913Z
UID:82674-1731519000-1731519000@ohiolibrarybc.com
SUMMARY:Indoor Edible Gardening
DESCRIPTION:Join us and the Master Gardeners as we learn about indoor gardening and how to get the most out of it.
URL:https://ohiolibrarybc.com/event/indoor-edible-gardening/
LOCATION:Ohio Public Library\, 112 North Main Street\, Ohio\, Illinois\, 61349\, United States
CATEGORIES:Special Event
END:VEVENT
BEGIN:VEVENT
DTSTART;TZID=UTC:20241026T100000
DTEND;TZID=UTC:20241026T100000
DTSTAMP:20260420T054804
CREATED:20240917T133817Z
LAST-MODIFIED:20240917T133817Z
UID:82672-1729936800-1729936800@ohiolibrarybc.com
SUMMARY:Halloween Party
DESCRIPTION:Join us for our annual Halloween party. We’ll be decorating pumpkins that day.
URL:https://ohiolibrarybc.com/event/halloween-party/
LOCATION:Ohio Public Library\, 112 North Main Street\, Ohio\, Illinois\, 61349\, United States
CATEGORIES:Special Event
END:VEVENT
BEGIN:VEVENT
DTSTART;TZID=UTC:20241007T150000
DTEND;TZID=UTC:20241007T163000
DTSTAMP:20260420T054804
CREATED:20240917T132835Z
LAST-MODIFIED:20240917T132835Z
UID:82670-1728313200-1728318600@ohiolibrarybc.com
SUMMARY:Legislator Traveling Office Hours
DESCRIPTION:A representative from State Senator Winn Stoller’s office will be at the library to hear constituent concerns.
URL:https://ohiolibrarybc.com/event/legislator-traveling-office-hours/
LOCATION:Ohio Public Library\, 112 North Main Street\, Ohio\, Illinois\, 61349\, United States
CATEGORIES:Special Event
END:VEVENT
BEGIN:VEVENT
DTSTART;TZID=UTC:20240921T100000
DTEND;TZID=UTC:20240921T100000
DTSTAMP:20260420T054804
CREATED:20240917T132730Z
LAST-MODIFIED:20240917T132730Z
UID:82668-1726912800-1726912800@ohiolibrarybc.com
SUMMARY:Fossil Making
DESCRIPTION:Participants get to make and decorate their own bug fossils to take home.
URL:https://ohiolibrarybc.com/event/fossil-making/
LOCATION:Ohio Public Library\, 112 North Main Street\, Ohio\, Illinois\, 61349\, United States
CATEGORIES:Special Event
END:VEVENT
BEGIN:VEVENT
DTSTART;TZID=UTC:20240731T140000
DTEND;TZID=UTC:20240731T150000
DTSTAMP:20260420T054804
CREATED:20240502T134326Z
LAST-MODIFIED:20240502T134326Z
UID:82663-1722434400-1722438000@ohiolibrarybc.com
SUMMARY:Tranquil Visions
DESCRIPTION:University of Illinois Extension presents Tranquil Visions. Participants get to create a soothing piece of art.
URL:https://ohiolibrarybc.com/event/tranquil-visions/
CATEGORIES:Special Event
END:VEVENT
BEGIN:VEVENT
DTSTART;TZID=UTC:20240513T173000
DTEND;TZID=UTC:20240513T190000
DTSTAMP:20260420T054804
CREATED:20240301T043132Z
LAST-MODIFIED:20240301T043132Z
UID:82637-1715621400-1715626800@ohiolibrarybc.com
SUMMARY:Raised Bed Vegetable Gardens
DESCRIPTION:The Master Gardeners are presenting a program on Raised Bed Vegetable Gardens.  Participants get to learn techniques and best practices to get the most out of their own raised vegetable gardens.
URL:https://ohiolibrarybc.com/event/raised-bed-vegetable-gardens/
LOCATION:Ohio Public Library\, 112 North Main Street\, Ohio\, Illinois\, 61349\, United States
CATEGORIES:Special Event
END:VEVENT
BEGIN:VEVENT
DTSTART;TZID=UTC:20240406T100000
DTEND;TZID=UTC:20240406T110000
DTSTAMP:20260420T054804
CREATED:20240206T182015Z
LAST-MODIFIED:20240206T182015Z
UID:82629-1712397600-1712401200@ohiolibrarybc.com
SUMMARY:Solar System Craft
DESCRIPTION:We are going to be building a solar system craft to help get everyone in the spirit for the solar eclipse on Monday\, April 8th. Participants get their own pair of eclipse glasses to take home on Saturday.
URL:https://ohiolibrarybc.com/event/solar-system-craft/
LOCATION:Ohio Public Library\, 112 North Main Street\, Ohio\, Illinois\, 61349\, United States
CATEGORIES:Special Event
END:VEVENT
BEGIN:VEVENT
DTSTART;TZID=UTC:20240323T100000
DTEND;TZID=UTC:20240323T103000
DTSTAMP:20260420T054804
CREATED:20240206T130624Z
LAST-MODIFIED:20240206T130706Z
UID:82626-1711188000-1711189800@ohiolibrarybc.com
SUMMARY:Easter Egg Hunt
DESCRIPTION:The location will be at the park in Ohio or at the library\, depending upon the weather that day.  Check the library’s Facebook page for up to date information as we get closer to the day as to where we will have the event.
URL:https://ohiolibrarybc.com/event/easter-egg-hunt/
LOCATION:Ohio Public Library\, 112 North Main Street\, Ohio\, Illinois\, 61349\, United States
CATEGORIES:Special Event
END:VEVENT
BEGIN:VEVENT
DTSTART;TZID=UTC:20240210T100000
DTEND;TZID=UTC:20240210T110000
DTSTAMP:20260420T054804
CREATED:20240129T165638Z
LAST-MODIFIED:20240129T165638Z
UID:82610-1707559200-1707562800@ohiolibrarybc.com
SUMMARY:Valentine's Day Craft
DESCRIPTION:
URL:https://ohiolibrarybc.com/event/valentines-day-craft/
LOCATION:Ohio Public Library\, 112 North Main Street\, Ohio\, Illinois\, 61349\, United States
CATEGORIES:Special Event
END:VEVENT
BEGIN:VEVENT
DTSTART;TZID=UTC:20240120T100000
DTEND;TZID=UTC:20240120T110000
DTSTAMP:20260420T054804
CREATED:20231228T152041Z
LAST-MODIFIED:20231228T152041Z
UID:82581-1705744800-1705748400@ohiolibrarybc.com
SUMMARY:Robot Jar Craft
DESCRIPTION:Join us on Saturday\, January 20th at 10:00 for a robot jar craft. We will be making our own robot jar decorations from canning jars. Free to attend.
URL:https://ohiolibrarybc.com/event/robot-jar-craft/
LOCATION:Ohio Public Library\, 112 North Main Street\, Ohio\, Illinois\, 61349\, United States
CATEGORIES:Special Event
END:VEVENT
BEGIN:VEVENT
DTSTART;TZID=UTC:20231209T100000
DTEND;TZID=UTC:20231209T110000
DTSTAMP:20260420T054804
CREATED:20231106T142600Z
LAST-MODIFIED:20231106T142714Z
UID:82479-1702116000-1702119600@ohiolibrarybc.com
SUMMARY:Christmas Party
DESCRIPTION:Please join us on Saturday\, December 9th at 10:00 for a Christmas/Winter themed craft/activity that participants get to take home afterwards.
URL:https://ohiolibrarybc.com/event/christmas-party/
LOCATION:Ohio Public Library\, 112 North Main Street\, Ohio\, Illinois\, 61349\, United States
CATEGORIES:Special Event
END:VEVENT
BEGIN:VEVENT
DTSTART;TZID=UTC:20231118T100000
DTEND;TZID=UTC:20231118T110000
DTSTAMP:20260420T054804
CREATED:20231106T142527Z
LAST-MODIFIED:20231106T142721Z
UID:82477-1700301600-1700305200@ohiolibrarybc.com
SUMMARY:Thanksgiving Craft Day
DESCRIPTION:Join us on Saturday\, November 18th at 10:00 for a Thanksgiving craft day program. We’ll be making Thanksgiving and fall themed crafts that day to take home.
URL:https://ohiolibrarybc.com/event/thanksgiving-craft-day/
LOCATION:Ohio Public Library\, 112 North Main Street\, Ohio\, Illinois\, 61349\, United States
CATEGORIES:Special Event
END:VEVENT
END:VCALENDAR