BEGIN:VCALENDAR
VERSION:2.0
PRODID:-//Ohio, Illinois Public Library - ECPv6.15.20//NONSGML v1.0//EN
CALSCALE:GREGORIAN
METHOD:PUBLISH
X-ORIGINAL-URL:https://ohiolibrarybc.com
X-WR-CALDESC:Events for Ohio, Illinois Public Library
REFRESH-INTERVAL;VALUE=DURATION:PT1H
X-Robots-Tag:noindex
X-PUBLISHED-TTL:PT1H
BEGIN:VTIMEZONE
TZID:UTC
BEGIN:STANDARD
TZOFFSETFROM:+0000
TZOFFSETTO:+0000
TZNAME:UTC
DTSTART:20250101T000000
END:STANDARD
END:VTIMEZONE
BEGIN:VEVENT
DTSTART;TZID=UTC:20260516T163000
DTEND;TZID=UTC:20260516T173000
DTSTAMP:20260420T072231
CREATED:20260419T123639Z
LAST-MODIFIED:20260419T123639Z
UID:82820-1778949000-1778952600@ohiolibrarybc.com
SUMMARY:Lego Building with C3Brix
DESCRIPTION:Cody Wells is one of the most sought-after custom LEGO artists in the country. His clients range from private collectors and celebrities to GOOGLE\, the New York Hall of Science\, NY/NJ Port Authority (for the 50th Anniversary of the 1964 World’s Fair)\, and beyond. \nCody’s work has been featured on the Steve Harvey Show\, Good Day New York\, Details Magazine\, and numerous other publications. He is an award-winning designer\, winning the 2013 BRICKIE at Brickfair – Virginia (featured in “A Lego Brickumentary) in TV & Sci-Fi for his Star Trek Enterprise.
URL:https://ohiolibrarybc.com/event/lego-building-with-c3brix/
LOCATION:Ohio Public Library\, 112 North Main Street\, Ohio\, Illinois\, 61349\, United States
CATEGORIES:Special Event
ATTACH;FMTTYPE=image/webp:https://ohiolibrarybc.com/wp-content/uploads/2026/04/C3Brix.webp
END:VEVENT
END:VCALENDAR