BEGIN:VCALENDAR
VERSION:2.0
PRODID:-//Ohio, Illinois Public Library - ECPv6.15.20//NONSGML v1.0//EN
CALSCALE:GREGORIAN
METHOD:PUBLISH
X-WR-CALNAME:Ohio, Illinois Public Library
X-ORIGINAL-URL:https://ohiolibrarybc.com
X-WR-CALDESC:Events for Ohio, Illinois Public Library
REFRESH-INTERVAL;VALUE=DURATION:PT1H
X-Robots-Tag:noindex
X-PUBLISHED-TTL:PT1H
BEGIN:VTIMEZONE
TZID:UTC
BEGIN:STANDARD
TZOFFSETFROM:+0000
TZOFFSETTO:+0000
TZNAME:UTC
DTSTART:20230101T000000
END:STANDARD
END:VTIMEZONE
BEGIN:VEVENT
DTSTART;TZID=UTC:20241113T173000
DTEND;TZID=UTC:20241113T173000
DTSTAMP:20260423T095406
CREATED:20240917T133913Z
LAST-MODIFIED:20240917T133913Z
UID:82674-1731519000-1731519000@ohiolibrarybc.com
SUMMARY:Indoor Edible Gardening
DESCRIPTION:Join us and the Master Gardeners as we learn about indoor gardening and how to get the most out of it.
URL:https://ohiolibrarybc.com/event/indoor-edible-gardening/
LOCATION:Ohio Public Library\, 112 North Main Street\, Ohio\, Illinois\, 61349\, United States
CATEGORIES:Special Event
END:VEVENT
BEGIN:VEVENT
DTSTART;TZID=UTC:20241123T100000
DTEND;TZID=UTC:20241123T100000
DTSTAMP:20260423T095406
CREATED:20240917T134021Z
LAST-MODIFIED:20240917T134021Z
UID:82676-1732356000-1732356000@ohiolibrarybc.com
SUMMARY:Fall Themed Craft
DESCRIPTION:Join us for our fall/Thanksgiving themed craft project.
URL:https://ohiolibrarybc.com/event/fall-themed-craft/
LOCATION:Ohio Public Library\, 112 North Main Street\, Ohio\, Illinois\, 61349\, United States
CATEGORIES:Special Event
END:VEVENT
END:VCALENDAR