BEGIN:VCALENDAR
VERSION:2.0
PRODID:-//Ohio, Illinois Public Library - ECPv6.15.20//NONSGML v1.0//EN
CALSCALE:GREGORIAN
METHOD:PUBLISH
X-WR-CALNAME:Ohio, Illinois Public Library
X-ORIGINAL-URL:https://ohiolibrarybc.com
X-WR-CALDESC:Events for Ohio, Illinois Public Library
REFRESH-INTERVAL;VALUE=DURATION:PT1H
X-Robots-Tag:noindex
X-PUBLISHED-TTL:PT1H
BEGIN:VTIMEZONE
TZID:UTC
BEGIN:STANDARD
TZOFFSETFROM:+0000
TZOFFSETTO:+0000
TZNAME:UTC
DTSTART:20230101T000000
END:STANDARD
END:VTIMEZONE
BEGIN:VEVENT
DTSTART;TZID=UTC:20241111T153000
DTEND;TZID=UTC:20241111T153000
DTSTAMP:20260423T172309
CREATED:20240919T141451Z
LAST-MODIFIED:20240919T141451Z
UID:82682-1731339000-1731339000@ohiolibrarybc.com
SUMMARY:Roller Coasters hosted by Bureau County 4-H
DESCRIPTION:Participants get to build their own paper roller coasters and then try them out that day.
URL:https://ohiolibrarybc.com/event/roller-coasters-hosted-by-bureau-county-4-h/
LOCATION:Ohio Public Library\, 112 North Main Street\, Ohio\, Illinois\, 61349\, United States
CATEGORIES:4-H Stem Program
END:VEVENT
END:VCALENDAR