BEGIN:VCALENDAR
VERSION:2.0
PRODID:-//Ohio, Illinois Public Library - ECPv6.15.20//NONSGML v1.0//EN
CALSCALE:GREGORIAN
METHOD:PUBLISH
X-ORIGINAL-URL:https://ohiolibrarybc.com
X-WR-CALDESC:Events for Ohio, Illinois Public Library
REFRESH-INTERVAL;VALUE=DURATION:PT1H
X-Robots-Tag:noindex
X-PUBLISHED-TTL:PT1H
BEGIN:VTIMEZONE
TZID:UTC
BEGIN:STANDARD
TZOFFSETFROM:+0000
TZOFFSETTO:+0000
TZNAME:UTC
DTSTART:20230101T000000
END:STANDARD
END:VTIMEZONE
BEGIN:VEVENT
DTSTART;TZID=UTC:20241014T153000
DTEND;TZID=UTC:20241014T153000
DTSTAMP:20260423T185244
CREATED:20240919T141346Z
LAST-MODIFIED:20240919T141346Z
UID:82680-1728919800-1728919800@ohiolibrarybc.com
SUMMARY:Paper Airplanes hosted by Bureau County 4-H
DESCRIPTION:Participants get to design and build their own paper airplanes and then compete against one another to see whose goes the farthest.
URL:https://ohiolibrarybc.com/event/paper-airplanes-hosted-by-bureau-county-4-h/
LOCATION:Ohio Public Library\, 112 North Main Street\, Ohio\, Illinois\, 61349\, United States
CATEGORIES:4-H Stem Program
END:VEVENT
END:VCALENDAR