BEGIN:VCALENDAR
VERSION:2.0
PRODID:-//Ohio, Illinois Public Library - ECPv6.15.20//NONSGML v1.0//EN
CALSCALE:GREGORIAN
METHOD:PUBLISH
X-WR-CALNAME:Ohio, Illinois Public Library
X-ORIGINAL-URL:https://ohiolibrarybc.com
X-WR-CALDESC:Events for Ohio, Illinois Public Library
REFRESH-INTERVAL;VALUE=DURATION:PT1H
X-Robots-Tag:noindex
X-PUBLISHED-TTL:PT1H
BEGIN:VTIMEZONE
TZID:UTC
BEGIN:STANDARD
TZOFFSETFROM:+0000
TZOFFSETTO:+0000
TZNAME:UTC
DTSTART:20230101T000000
END:STANDARD
END:VTIMEZONE
BEGIN:VEVENT
DTSTART;TZID=UTC:20240226T153000
DTEND;TZID=UTC:20240226T163000
DTSTAMP:20260419T221247
CREATED:20240129T165514Z
LAST-MODIFIED:20240129T165514Z
UID:82608-1708961400-1708965000@ohiolibrarybc.com
SUMMARY:Exploring Robots: 4-H Stem Program
DESCRIPTION:Robots are everywhere today\, from the farm to outer space. Explore the many ways robots are used\, followed by building one.
URL:https://ohiolibrarybc.com/event/exploring-robots-4-h-stem-program/
LOCATION:Ohio Public Library\, 112 North Main Street\, Ohio\, Illinois\, 61349\, United States
CATEGORIES:4-H Stem Program
END:VEVENT
END:VCALENDAR